BEGIN:VCALENDAR
VERSION:2.0
PRODID:DPCALENDAR
CALSCALE:GREGORIAN
X-WR-TIMEZONE:UTC
BEGIN:VEVENT
DTSTART;TZID=UTC:20251111T090000
DTEND;TZID=UTC:20251111T100000
UID:2C2145A6-25D6-4B0A-8812-8719D3DE33CE
SUMMARY:cC1 - 2025/2026 - Jour 1 : Remise partielle de paquetage
CREATED:20251104T190004Z
DTSTAMP:20251104T190004Z
URL:https://www.cadetsgendarmerie19.fr/index.php/les-cadets/blog-des-cadets/classe-cadets-2025-2026/cc1-2025-2026-jour-1-remise-partielle-de-paquetage
DESCRIPTION:ACTION ANNULÉE\NRemise partielle de paquetage à 2 Cadets (un garçon et une fille) si les tenues militaires sont parvenues à l'association avant la cérémonie du 11 novembre 2025
X-ALT-DESC;FMTTYPE=text/html:<p><span style="color: rgb(224, 62, 45);"><strong>ACTION ANNULÉE</strong></span></p><p>Remise partielle de paquetage à 2 Cadets (un garçon et une fille) si les tenues militaires sont parvenues à l'association avant la cérémonie du 11 novembre 2025</p>
LAST-MODIFIED:20251107T132119Z
SEQUENCE:238875
LOCATION:Place Jacques Chirac\, 19270 Donzenac\, Nouvelle-Aquitaine\, France
GEO:45.22764790;1.52288900
X-LOCATION-DISPLAYNAME:Mairie de Donzenac
X-ACCESS:1
X-HITS:12
X-COLOR:3366cc
X-SHOW-END-TIME:1
END:VEVENT
BEGIN:VEVENT
DTSTART;TZID=UTC:20251111T110000
DTEND;TZID=UTC:20251111T120000
UID:DEDEE047-FF6B-46AB-9891-A25AC752EE2E
SUMMARY:cC1 - 2025/2026 - Jour 1 : Cérémonie du 11 novembre à Donzenac
CREATED:20251104T190004Z
DTSTAMP:20251104T190004Z
URL:https://www.cadetsgendarmerie19.fr/index.php/les-cadets/blog-des-cadets/classe-cadets-2025-2026/cc1-2025-2026-jour-1-remise-partielle-de-paquetage-2
DESCRIPTION:ACTION ANNULÉE\NParticipation de 2 Cadets (un garçon et une fille) à la cérémonie du 11 novembre organisée par la mairie de Donzenac\NRepas fourni par le Cadet ou sa famille *
X-ALT-DESC;FMTTYPE=text/html:<p><span style="color: rgb(224, 62, 45);"><strong>ACTION ANNULÉE</strong></span></p><p>Participation de 2 Cadets (un garçon et une fille) à la cérémonie du 11 novembre organisée par la mairie de Donzenac</p><p>Repas fourni par le Cadet ou sa famille *</p>
LAST-MODIFIED:20251107T132132Z
SEQUENCE:238888
LOCATION:Place Jacques Chirac\, 19270 Donzenac\, Nouvelle-Aquitaine\, France
GEO:45.22764790;1.52288900
X-LOCATION-DISPLAYNAME:Mairie de Donzenac
X-ACCESS:1
X-HITS:10
X-COLOR:3366cc
X-SHOW-END-TIME:1
END:VEVENT
BEGIN:VEVENT
DTSTART;VALUE=DATE:20251213
DTEND;VALUE=DATE:20251214
UID:6A556275-BA45-4350-B127-0BDA088C14F1
SUMMARY:cC1 - 2025/2026 - Jour 2 : Remise partielle de paquetage et présentation du programme de formation
CREATED:20251104T190807Z
DTSTAMP:20251104T190807Z
URL:https://www.cadetsgendarmerie19.fr/index.php/les-cadets/blog-des-cadets/classe-cadets-2025-2026/cc1-2025-2026-jour-2-presentation-du-programme-de-formation
DESCRIPTION:Action : Remise partielle de paquetage et présentation du programme de l'année et amorce cohésion d’équipes par des jeux virtuelsLe lieu et les horaires précis seront communiqués ultérieurement\NRepas fourni par le Cadet ou sa famille *
X-ALT-DESC;FMTTYPE=text/html:<p><span style="text-decoration: underline;">Action</span> : Remise partielle de paquetage et présentation du programme de l'année et amorce cohésion d’équipes par des jeux virtuels<br>Le lieu et les horaires précis seront communiqués ultérieurement</p><p>Repas fourni par le Cadet ou sa famille *</p>
LAST-MODIFIED:20251104T200805Z
SEQUENCE:3598
LOCATION:rue de la botte 15\, 19000 TULLE\, Nouvelle Aquitaine\, France
GEO:45.27486750;1.77584660
X-LOCATION-DISPLAYNAME:Groupement de gendarmerie départementale de la Corrèze
X-ACCESS:1
X-HITS:97
X-COLOR:3366cc
X-SHOW-END-TIME:0
END:VEVENT
BEGIN:VEVENT
DTSTART;VALUE=DATE:20260124
DTEND;VALUE=DATE:20260126
UID:A4C1D0D0-BAFD-402B-B029-403E12A0E788
SUMMARY:cC1 - 2025/2026 - Jour 3 et 4 : 1er stage de cohésion
CREATED:20251104T190807Z
DTSTAMP:20251104T190807Z
URL:https://www.cadetsgendarmerie19.fr/index.php/les-cadets/blog-des-cadets/classe-cadets-2025-2026/cc1-2025-2026-jour-2-presentation-du-programme-de-formation-10
DESCRIPTION:Action : 1er stage de cohésion d'équipes à Bugeat, locaux « Mille sources »\NLe lieu et les horaires précis seront communiqués ultérieurement.Hébergement et repas organisés par l’association / participation financière du Cadet ou de sa famille *
X-ALT-DESC;FMTTYPE=text/html:<p><span style="text-decoration: underline;">Action</span> : 1er stage de cohésion d'équipes à Bugeat, locaux « Mille sources »</p><p>Le lieu et les horaires précis seront communiqués ultérieurement.<br>Hébergement et repas organisés par l’association / participation financière du Cadet ou de sa famille *</p>
LAST-MODIFIED:20251104T195326Z
SEQUENCE:2719
X-ACCESS:1
X-HITS:6
X-COLOR:3366cc
X-SHOW-END-TIME:0
END:VEVENT
BEGIN:VEVENT
DTSTART;VALUE=DATE:20260221
DTEND;VALUE=DATE:20260222
UID:0ECBAB97-5DBB-425C-8C2C-DD617D0F15B0
SUMMARY:cC1 - 2025/2026 - Jour 5 : Programme et choix de lieu en préparation
CREATED:20251104T190807Z
DTSTAMP:20251104T190807Z
URL:https://www.cadetsgendarmerie19.fr/index.php/les-cadets/blog-des-cadets/classe-cadets-2025-2026/cc1-2025-2026-jour-2-presentation-du-programme-de-formation-3
DESCRIPTION:Action : [à définir] Programme et choix de lieu en préparationL'une ou l'autre des 2 dates 21/02/2026 ou 28/02/2026\NLe lieu et les horaires précis seront communiqués ultérieurementRepas fourni par le Cadet ou sa famille *
X-ALT-DESC;FMTTYPE=text/html:<p><span style="text-decoration: underline;">Action</span> : [à définir] Programme et choix de lieu en préparation<br><span style="color: rgb(224, 62, 45);">L'une ou l'autre des 2 dates 21/02/2026 ou 28/02/2026</span></p><p>Le lieu et les horaires précis seront communiqués ultérieurement<br>Repas fourni par le Cadet ou sa famille *</p>
LAST-MODIFIED:20251104T192829Z
SEQUENCE:1222
X-ACCESS:1
X-HITS:9
X-COLOR:3366cc
X-SHOW-END-TIME:0
END:VEVENT
BEGIN:VEVENT
DTSTART;VALUE=DATE:20260228
DTEND;VALUE=DATE:20260301
UID:423B45ED-31B1-4CDE-919A-8BAF175E8071
SUMMARY:cC1 - 2025/2026 - Jour 5 : Programme et choix de lieu en préparation
CREATED:20251104T190807Z
DTSTAMP:20251104T190807Z
URL:https://www.cadetsgendarmerie19.fr/index.php/les-cadets/blog-des-cadets/classe-cadets-2025-2026/cc1-2025-2026-jour-2-presentation-du-programme-de-formation-4
DESCRIPTION:Action : [à définir] Programme et choix de lieu en préparationL'une ou l'autre des 2 dates 21/02/2026 ou 28/02/2026\NLe lieu et les horaires précis seront communiqués ultérieurementRepas fourni par le Cadet ou sa famille *
X-ALT-DESC;FMTTYPE=text/html:<p><span style="text-decoration: underline;">Action</span> : [à définir] Programme et choix de lieu en préparation<br><span style="color: rgb(224, 62, 45);">L'une ou l'autre des 2 dates 21/02/2026 ou 28/02/2026</span></p><p>Le lieu et les horaires précis seront communiqués ultérieurement<br>Repas fourni par le Cadet ou sa famille *</p>
LAST-MODIFIED:20251104T192802Z
SEQUENCE:1195
X-ACCESS:1
X-HITS:8
X-COLOR:3366cc
X-SHOW-END-TIME:0
END:VEVENT
BEGIN:VEVENT
DTSTART;VALUE=DATE:20260321
DTEND;VALUE=DATE:20260322
UID:BD6FC902-4A1C-4A8A-8F49-3A9F9FA3E70F
SUMMARY:cC1 - 2025/2026 - Jour 6 : Programme et choix de lieu en préparation
CREATED:20251104T190807Z
DTSTAMP:20251104T190807Z
URL:https://www.cadetsgendarmerie19.fr/index.php/les-cadets/blog-des-cadets/classe-cadets-2025-2026/cc1-2025-2026-jour-2-presentation-du-programme-de-formation-5
DESCRIPTION:Action : [à définir] Programme et choix de lieu en préparationL'une ou l'autre des 2 dates 21/03/2026 ou 28/03/2026\NLe lieu et les horaires précis seront communiqués ultérieurementRepas fourni par le Cadet ou sa famille *
X-ALT-DESC;FMTTYPE=text/html:<p><span style="text-decoration: underline;">Action</span> : [à définir] Programme et choix de lieu en préparation<br><span style="color: rgb(224, 62, 45);">L'une ou l'autre des 2 dates 21/03/2026 ou 28/03/2026</span></p><p>Le lieu et les horaires précis seront communiqués ultérieurement<br>Repas fourni par le Cadet ou sa famille *</p>
LAST-MODIFIED:20251104T192933Z
SEQUENCE:1286
X-ACCESS:1
X-HITS:12
X-COLOR:3366cc
X-SHOW-END-TIME:0
END:VEVENT
BEGIN:VEVENT
DTSTART;VALUE=DATE:20260328
DTEND;VALUE=DATE:20260329
UID:3ACE5B40-0781-4568-ACE8-3E715960ED9E
SUMMARY:cC1 - 2025/2026 - Jour 6 : Programme et choix de lieu en préparation
CREATED:20251104T190807Z
DTSTAMP:20251104T190807Z
URL:https://www.cadetsgendarmerie19.fr/index.php/les-cadets/blog-des-cadets/classe-cadets-2025-2026/cc1-2025-2026-jour-2-presentation-du-programme-de-formation-6
DESCRIPTION:Action : [à définir] Programme et choix de lieu en préparationL'une ou l'autre des 2 dates 21/03/2026 ou 28/03/2026\NLe lieu et les horaires précis seront communiqués ultérieurementRepas fourni par le Cadet ou sa famille *
X-ALT-DESC;FMTTYPE=text/html:<p><span style="text-decoration: underline;">Action</span> : [à définir] Programme et choix de lieu en préparation<br><span style="color: rgb(224, 62, 45);">L'une ou l'autre des 2 dates 21/03/2026 ou 28/03/2026</span></p><p>Le lieu et les horaires précis seront communiqués ultérieurement<br>Repas fourni par le Cadet ou sa famille *</p>
LAST-MODIFIED:20251104T192949Z
SEQUENCE:1302
X-ACCESS:1
X-HITS:7
X-COLOR:3366cc
X-SHOW-END-TIME:0
END:VEVENT
BEGIN:VEVENT
DTSTART;VALUE=DATE:20260413
DTEND;VALUE=DATE:20260418
UID:0B1CACEE-B4B6-419B-956C-63971EA71199
SUMMARY:cC1 - 2025/2026 - Jour 7 au 11 : 2nd stage de cohésion
CREATED:20251104T190807Z
DTSTAMP:20251104T190807Z
URL:https://www.cadetsgendarmerie19.fr/index.php/les-cadets/blog-des-cadets/classe-cadets-2025-2026/cc1-2025-2026-jour-2-presentation-du-programme-de-formation-9
DESCRIPTION:Action : 2nd stage de cohésion d'équipes durant la 2ème semaine des vacances scolaires de Carnaval, à Voutezac, locaux « La base » avec un parcours d’orientation notamment\NLe lieu et les horaires précis seront communiqués ultérieurement.Hébergement et repas organisés par l’association / participation financière du Cadet ou de sa famille *
X-ALT-DESC;FMTTYPE=text/html:<p><span style="text-decoration: underline;">Action</span> : 2nd stage de cohésion d'équipes durant la 2ème semaine des vacances scolaires de Carnaval, <br>à Voutezac, locaux « La base » avec un parcours d’orientation notamment</p><p>Le lieu et les horaires précis seront communiqués ultérieurement.<br>Hébergement et repas organisés par l’association / participation financière du Cadet ou de sa famille *</p>
LAST-MODIFIED:20251104T195249Z
SEQUENCE:2682
LOCATION:La Lombertie\, 19130 Voutezac\, Nouvelle Aquitaine\, France
GEO:0.00000000;0.00000000
X-LOCATION-DISPLAYNAME:La Base | Sports - Loisirs - Vézère
X-ACCESS:1
X-HITS:5
X-COLOR:3366cc
X-SHOW-END-TIME:0
END:VEVENT
BEGIN:VEVENT
DTSTART;VALUE=DATE:20260508
DTEND;VALUE=DATE:20260509
UID:616E43DD-1C70-498B-A1B6-B3DC0396CE9C
SUMMARY:cC1 - 2025/2026 - Jour 12 : Cérémonie de l’armistice de 1945 à [choix de lieu en préparation]
CREATED:20251104T194125Z
DTSTAMP:20251104T194125Z
URL:https://www.cadetsgendarmerie19.fr/index.php/les-cadets/blog-des-cadets/classe-cadets-2025-2026/cc1-2025-2026-jour-12-ceremonie-de-larmistice-de-1945-a-choix-de-lieu-en-preparation
DESCRIPTION:Action : Cérémonie de l’armistice de 1945 à [choix de lieu en préparation]\NLe lieu et les horaires précis seront communiqués ultérieurementRepas fourni par le Cadet ou sa famille *
X-ALT-DESC;FMTTYPE=text/html:<p><span style="text-decoration: underline;">Action</span> : Cérémonie de l’armistice de 1945 à [choix de lieu en préparation]</p><p>Le lieu et les horaires précis seront communiqués ultérieurement<br>Repas fourni par le Cadet ou sa famille *</p>
LAST-MODIFIED:20251104T194325Z
SEQUENCE:120
X-ACCESS:1
X-HITS:6
X-COLOR:3366cc
X-SHOW-END-TIME:0
END:VEVENT
BEGIN:VEVENT
DTSTART;VALUE=DATE:20260530
DTEND;VALUE=DATE:20260531
UID:5E6BB3D7-5E09-43F2-9B83-0058E7D13984
SUMMARY:cC1 - 2025/2026 - Jour 13 : Programme et choix de lieu en préparation
CREATED:20251104T190807Z
DTSTAMP:20251104T190807Z
URL:https://www.cadetsgendarmerie19.fr/index.php/les-cadets/blog-des-cadets/classe-cadets-2025-2026/cc1-2025-2026-jour-2-presentation-du-programme-de-formation-7
DESCRIPTION:Action : [à définir] Programme et choix de lieu en préparation\NLe lieu et les horaires précis seront communiqués ultérieurementRepas fourni par le Cadet ou sa famille *
X-ALT-DESC;FMTTYPE=text/html:<p><span style="text-decoration: underline;">Action</span> : [à définir] Programme et choix de lieu en préparation</p><p>Le lieu et les horaires précis seront communiqués ultérieurement<br>Repas fourni par le Cadet ou sa famille *</p>
LAST-MODIFIED:20251104T194513Z
SEQUENCE:2226
X-ACCESS:1
X-HITS:5
X-COLOR:3366cc
X-SHOW-END-TIME:0
END:VEVENT
BEGIN:VEVENT
DTSTART;VALUE=DATE:20260608
DTEND;VALUE=DATE:20260609
UID:1C4E95FB-E91A-4523-8803-6B95EA12CA3E
SUMMARY:cC1 - 2025/2026 - Jour 14 : Journée de commémoration contre l’oubli à Tulle
CREATED:20251104T190807Z
DTSTAMP:20251104T190807Z
URL:https://www.cadetsgendarmerie19.fr/index.php/les-cadets/blog-des-cadets/classe-cadets-2025-2026/cc1-2025-2026-jour-2-presentation-du-programme-de-formation-11
DESCRIPTION:Action : Journée de commémoration contre l’oubli à Tulledate encore précisée, ce sera l'une ou l'autre des 2 dates 08/06/2026 ou 09/06/2026Attention journée en semaine, hors vacances scolaires\NProgramme et choix de lieu précis en préparationles horaires précis seront communiqués ultérieurement\NRepas fourni par le Cadet ou sa famille *
X-ALT-DESC;FMTTYPE=text/html:<p><span style="text-decoration: underline;">Action</span> : Journée de commémoration contre l’oubli à Tulle<br><span style="color: rgb(224, 62, 45);">date encore précisée, ce sera l'une ou l'autre des 2 dates 08/06/2026 ou 09/06/2026</span><br>Attention journée en semaine, hors vacances scolaires</p><p>Programme et choix de lieu précis en préparation<br>les horaires précis seront communiqués ultérieurement</p><p>Repas fourni par le Cadet ou sa famille *</p>
LAST-MODIFIED:20251104T195834Z
SEQUENCE:3027
X-ACCESS:1
X-HITS:10
X-COLOR:3366cc
X-SHOW-END-TIME:0
END:VEVENT
BEGIN:VEVENT
DTSTART;VALUE=DATE:20260609
DTEND;VALUE=DATE:20260610
UID:C112EFB5-11C8-49AF-927A-CBB4673AB89B
SUMMARY:cC1 - 2025/2026 - Jour 14 : Journée de commémoration contre l’oubli à Tulle
CREATED:20251104T190807Z
DTSTAMP:20251104T190807Z
URL:https://www.cadetsgendarmerie19.fr/index.php/les-cadets/blog-des-cadets/classe-cadets-2025-2026/cc1-2025-2026-jour-2-presentation-du-programme-de-formation-12
DESCRIPTION:Action : Journée de commémoration contre l’oubli à Tulledate encore précisée, ce sera l'une ou l'autre des 2 dates 08/06/2026 ou 09/06/2026Attention journée en semaine, hors vacances scolaires\NProgramme et choix de lieu précis en préparationles horaires précis seront communiqués ultérieurement\NRepas fourni par le Cadet ou sa famille *
X-ALT-DESC;FMTTYPE=text/html:<p><span style="text-decoration: underline;">Action</span> : Journée de commémoration contre l’oubli à Tulle<br><span style="color: rgb(224, 62, 45);">date encore précisée, ce sera l'une ou l'autre des 2 dates 08/06/2026 ou 09/06/2026</span><br>Attention journée en semaine, hors vacances scolaires</p><p>Programme et choix de lieu précis en préparation<br>les horaires précis seront communiqués ultérieurement</p><p>Repas fourni par le Cadet ou sa famille *</p>
LAST-MODIFIED:20251104T195852Z
SEQUENCE:3045
X-ACCESS:1
X-HITS:8
X-COLOR:3366cc
X-SHOW-END-TIME:0
END:VEVENT
BEGIN:VEVENT
DTSTART;VALUE=DATE:20260627
DTEND;VALUE=DATE:20260628
UID:6531746B-D3E1-4EE7-BE60-449788679D48
SUMMARY:cC1 - 2025/2026 - Jour 15 : Programme et choix de lieu en préparation
CREATED:20251104T190807Z
DTSTAMP:20251104T190807Z
URL:https://www.cadetsgendarmerie19.fr/index.php/les-cadets/blog-des-cadets/classe-cadets-2025-2026/cc1-2025-2026-jour-2-presentation-du-programme-de-formation-8
DESCRIPTION:Action : [à définir] Programme et choix de lieu en préparation\NLe lieu et les horaires précis seront communiqués ultérieurementRepas fourni par le Cadet ou sa famille *
X-ALT-DESC;FMTTYPE=text/html:<p><span style="text-decoration: underline;">Action</span> : [à définir] Programme et choix de lieu en préparation</p><p>Le lieu et les horaires précis seront communiqués ultérieurement<br>Repas fourni par le Cadet ou sa famille *</p>
LAST-MODIFIED:20251104T195932Z
SEQUENCE:3085
X-ACCESS:1
X-HITS:5
X-COLOR:3366cc
X-SHOW-END-TIME:0
END:VEVENT
BEGIN:VEVENT
DTSTART;VALUE=DATE:20260711
DTEND;VALUE=DATE:20260717
UID:803AB257-4D27-418E-9699-E219A5DD8177
SUMMARY:cC1 - 2025/2026 - Jour 16 à 21 : 3ème et dernier stage de cohésion d’équipes (stage de fin de promotion)
CREATED:20251104T190807Z
DTSTAMP:20251104T190807Z
URL:https://www.cadetsgendarmerie19.fr/index.php/les-cadets/blog-des-cadets/classe-cadets-2025-2026/cc1-2025-2026-jour-2-presentation-du-programme-de-formation-2
DESCRIPTION:Action : 3ème et dernier stage de cohésion d’équipes (stage de fin de promotion)durant la 2ème semaine des vacances scolaires d'été\NLe programme et le lieu sont encore à définir à ce stade… Probablement Tulle avec participation des Cadets au défilé du 14 juillet\NLe lieu et les horaires précis seront communiqués ultérieurement.Hébergement et repas organisés par l’association / participation financière du Cadet ou de sa famille *
X-ALT-DESC;FMTTYPE=text/html:<p><span style="text-decoration: underline;">Action</span> : 3ème et dernier stage de cohésion d’équipes (stage de fin de promotion)<br>durant la 2ème semaine des vacances scolaires d'été</p><p>Le programme et le lieu sont encore à définir à ce stade… <br>Probablement Tulle avec participation des Cadets au défilé du 14 juillet</p><p>Le lieu et les horaires précis seront communiqués ultérieurement.<br>Hébergement et repas organisés par l’association / participation financière du Cadet ou de sa famille *</p>
LAST-MODIFIED:20251104T200301Z
SEQUENCE:3294
LOCATION:Chemin de Sartelon\, 19000 Tulle\, Nouvelle-Aquitaine\, France
GEO:45.25658250;1.76803967
X-LOCATION-DISPLAYNAME:École de gendarmerie de Tulle
X-ACCESS:1
X-HITS:145
X-COLOR:3366cc
X-SHOW-END-TIME:0
END:VEVENT
BEGIN:VEVENT
DTSTART;VALUE=DATE:20260718
DTEND;VALUE=DATE:20260719
UID:CFA96887-4453-4A60-8FD8-5D2A1E9AE866
SUMMARY:cC1 - 2025/2026 - Jour 22 : Cérémonie de clôture et libération
CREATED:20251104T190807Z
DTSTAMP:20251104T190807Z
URL:https://www.cadetsgendarmerie19.fr/index.php/les-cadets/blog-des-cadets/classe-cadets-2025-2026/cc1-2025-2026-jour-2-presentation-du-programme-de-formation-13
DESCRIPTION:Action :\N\NMatin : cérémonie de clôture de la 1ère  classe Cadets et remise des diplômes et de la rondache de promotion\NAprès-midi : restitution du paquetage et libération\N\NLe lieu et les horaires précis seront communiqués ultérieurement\NRepas fourni par le Cadet ou sa famille *
X-ALT-DESC;FMTTYPE=text/html:<p><span style="text-decoration: underline;">Action</span> :</p><ul><li><strong><span style="text-decoration: underline;">Matin</span></strong> : cérémonie de clôture de la 1ère  classe Cadets et remise des diplômes et de la rondache de promotion</li><li><strong><span style="text-decoration: underline;">Après-midi</span></strong> : restitution du paquetage et libération</li></ul><p>Le lieu et les horaires précis seront communiqués ultérieurement</p><p>Repas fourni par le Cadet ou sa famille *</p>
LAST-MODIFIED:20251104T200636Z
SEQUENCE:3509
LOCATION:rue de la botte 15\, 19000 TULLE\, Nouvelle Aquitaine\, France
GEO:45.27486750;1.77584660
X-LOCATION-DISPLAYNAME:Groupement de gendarmerie départementale de la Corrèze
X-ACCESS:1
X-HITS:149
X-COLOR:3366cc
X-SHOW-END-TIME:0
END:VEVENT
END:VCALENDAR